1.0000000000
0.0000000000
0.0000000000
-1.0000000000
729641.5000000000
4744308.5000000000
