1.0000000000
0.0000000000
0.0000000000
-1.0000000000
739619.5000000000
4751606.5000000000
