1.0000000000
0.0000000000
0.0000000000
-1.0000000000
734514.5000000000
4751425.5000000000
