1.0000000000
0.0000000000
0.0000000000
-1.0000000000
673605.5000000000
4735681.5000000000
