1.0000000000
0.0000000000
0.0000000000
-1.0000000000
678900.5000000000
4728875.5000000000
