1.0000000000
0.0000000000
0.0000000000
-1.0000000000
673779.5000000000
4728741.5000000000
