1.0000000000
0.0000000000
0.0000000000
-1.0000000000
699181.5000000000
4736391.5000000000
