1.0000000000
0.0000000000
0.0000000000
-1.0000000000
694065.5000000000
4736241.5000000000
