1.0000000000
0.0000000000
0.0000000000
-1.0000000000
709411.5000000000
4736701.5000000000
