1.0000000000
0.0000000000
0.0000000000
-1.0000000000
704296.5000000000
4736544.5000000000
