1.0000000000
0.0000000000
0.0000000000
-1.0000000000
709622.5000000000
4729760.5000000000
