1.0000000000
0.0000000000
0.0000000000
-1.0000000000
729872.5000000000
4737367.5000000000
