1.0000000000
0.0000000000
0.0000000000
-1.0000000000
724757.5000000000
4737195.5000000000
