1.0000000000
0.0000000000
0.0000000000
-1.0000000000
730104.5000000000
4730426.5000000000
