1.0000000000
0.0000000000
0.0000000000
-1.0000000000
740103.5000000000
4737723.5000000000
