1.0000000000
0.0000000000
0.0000000000
-1.0000000000
734988.5000000000
4737543.5000000000
