1.0000000000
0.0000000000
0.0000000000
-1.0000000000
740345.5000000000
4730783.5000000000
