1.0000000000
0.0000000000
0.0000000000
-1.0000000000
735224.5000000000
4730603.5000000000
