1.0000000000
0.0000000000
0.0000000000
-1.0000000000
663703.5000000000
4721543.5000000000
