1.0000000000
0.0000000000
0.0000000000
-1.0000000000
586298.5000000000
4761736.5000000000
