1.0000000000
0.0000000000
0.0000000000
-1.0000000000
581204.5000000000
4761670.5000000000
