1.0000000000
0.0000000000
0.0000000000
-1.0000000000
586386.5000000000
4754796.5000000000
