1.0000000000
0.0000000000
0.0000000000
-1.0000000000
581287.5000000000
4754729.5000000000
