1.0000000000
0.0000000000
0.0000000000
-1.0000000000
596585.5000000000
4754940.5000000000
