1.0000000000
0.0000000000
0.0000000000
-1.0000000000
606676.5000000000
4762040.5000000000
