1.0000000000
0.0000000000
0.0000000000
-1.0000000000
616983.5000000000
4755273.5000000000
