1.0000000000
0.0000000000
0.0000000000
-1.0000000000
611884.5000000000
4755184.5000000000
