1.0000000000
0.0000000000
0.0000000000
-1.0000000000
627053.5000000000
4762403.5000000000
