1.0000000000
0.0000000000
0.0000000000
-1.0000000000
621959.5000000000
4762307.5000000000
