1.0000000000
0.0000000000
0.0000000000
-1.0000000000
627182.5000000000
4755463.5000000000
