1.0000000000
0.0000000000
0.0000000000
-1.0000000000
637382.5000000000
4755667.5000000000
