1.0000000000
0.0000000000
0.0000000000
-1.0000000000
647431.5000000000
4762828.5000000000
