1.0000000000
0.0000000000
0.0000000000
-1.0000000000
642337.5000000000
4762716.5000000000
