1.0000000000
0.0000000000
0.0000000000
-1.0000000000
647581.5000000000
4755887.5000000000
