1.0000000000
0.0000000000
0.0000000000
-1.0000000000
642481.5000000000
4755775.5000000000
