1.0000000000
0.0000000000
0.0000000000
-1.0000000000
657620.5000000000
4763062.5000000000
