1.0000000000
0.0000000000
0.0000000000
-1.0000000000
652526.5000000000
4762943.5000000000
