1.0000000000
0.0000000000
0.0000000000
-1.0000000000
657780.5000000000
4756122.5000000000
