1.0000000000
0.0000000000
0.0000000000
-1.0000000000
581452.5000000000
4740849.5000000000
