1.0000000000
0.0000000000
0.0000000000
-1.0000000000
596683.5000000000
4747999.5000000000
