1.0000000000
0.0000000000
0.0000000000
-1.0000000000
591671.5000000000
4740985.5000000000
