1.0000000000
0.0000000000
0.0000000000
-1.0000000000
601788.5000000000
4748077.5000000000
