1.0000000000
0.0000000000
0.0000000000
-1.0000000000
617220.5000000000
4741392.5000000000
