1.0000000000
0.0000000000
0.0000000000
-1.0000000000
612111.5000000000
4741303.5000000000
