1.0000000000
0.0000000000
0.0000000000
-1.0000000000
622207.5000000000
4748426.5000000000
