1.0000000000
0.0000000000
0.0000000000
-1.0000000000
627440.5000000000
4741582.5000000000
