1.0000000000
0.0000000000
0.0000000000
-1.0000000000
637521.5000000000
4748727.5000000000
