1.0000000000
0.0000000000
0.0000000000
-1.0000000000
632416.5000000000
4748623.5000000000
