1.0000000000
0.0000000000
0.0000000000
-1.0000000000
647730.5000000000
4748946.5000000000
