1.0000000000
0.0000000000
0.0000000000
-1.0000000000
657940.5000000000
4749181.5000000000
